BEGIN:VCALENDAR
VERSION:2.0
PRODID:-//STADTKULTUR HAMBURG//kultur-hamburg.de///DE
CALSCALE:GREGORIAN
BEGIN:VEVENT
X-WR-TIMEZONE:Europe/Berlin
DTSTART:20121027T110000
DTEND:20121028T170000
LOCATION:Ev. Familienbildung Hamm-Horn \, Bei der Hammer Kirche 16 \, 20535 Hamburg
DTSTAMP:20260423T033809
SUMMARY:Die vier Elemente
URL;VALUE=URI:https://www.kultur-hamburg.de/kurse_workshops/die-vier-elemente-90876
DESCRIPTION:Zu Wasser, Luft, Erde und Feuer künstlerisch ausdrücken. Mit Farben,
Kreiden und Stiften eigener Wahl unter Anleitung . Es können Serien sowie
Einzelbilder entstehen.
UID:f240ad58232eba7a89b5e102038e3055@kulturhamburg
END:VEVENT
END:VCALENDAR