BEGIN:VCALENDAR
VERSION:2.0
PRODID:-//STADTKULTUR HAMBURG//kultur-hamburg.de///DE
CALSCALE:GREGORIAN
BEGIN:VEVENT
X-WR-TIMEZONE:Europe/Berlin
DTSTART:20121013T100000
DTEND:20121013T150000
LOCATION:Ev. Familienbildung Norderstedt \, Kirchenplatz 1 \, 22844 Norderstedt
DTSTAMP:20260423T072119
SUMMARY:Kochen in den Herbstferien — Kinderrestaurant
URL;VALUE=URI:https://www.kultur-hamburg.de/kurse_workshops/kochen-in-den-herbstferien-oe-kinderrestaurant-90881
DESCRIPTION:Wir laden Eltern und Geschwister ein!!
Aus den in den letzten Tagen gekochten Gerichten suchen wir gemeinsam
die schönsten für ein Vier-Gänge-Menü aus.
UID:b18fc1df9f3e9cb0f69413c86282b37f@kulturhamburg
END:VEVENT
END:VCALENDAR