BEGIN:VCALENDAR
VERSION:2.0
PRODID:-//STADTKULTUR HAMBURG//kultur-hamburg.de///DE
CALSCALE:GREGORIAN
BEGIN:VEVENT
X-WR-TIMEZONE:Europe/Berlin
DTSTART:20121024T183000
DTEND:20121024T200000
LOCATION:TASK Schauspielschule für Kinder und Jugendliche \, Stresemannstraße 163 (Neue Flora) \, 22769 Hamburg
DTSTAMP:20260423T033933
SUMMARY:Kostenlose Schauspiel-Schnupperstunde ab 10 J. - TASK Schauspielschule Hamburg
URL;VALUE=URI:https://www.kultur-hamburg.de/kurse_workshops/kostenlose-schauspiel-schnupperstunde-ab-10-j.-task-schauspielschule-hamburg-90963
DESCRIPTION:Lust auf Schauspielunterricht aber keine Ahnung, wie das eigentlich so läuft? Besucht unsere kostenlose Schauspiel-Schnupperstunde und erfahrt mehr.
UID:2943fd4f4da72dc5354eb5375665a913@kulturhamburg
END:VEVENT
END:VCALENDAR