BEGIN:VCALENDAR
VERSION:2.0
PRODID:-//STADTKULTUR HAMBURG//kultur-hamburg.de///DE
CALSCALE:GREGORIAN
BEGIN:VEVENT
X-WR-TIMEZONE:Europe/Berlin
DTSTART:20121117T110000
DTEND:20121117T170000
LOCATION:KulturKlinker Barmbek e.V. \, Lorichsstraße 28 a \, 22307 Hamburg
DTSTAMP:20260422T222504
SUMMARY:Singen & Stimme – Workshop mit Agata Paulina
URL;VALUE=URI:https://www.kultur-hamburg.de/kurse_workshops/singen-&-stimme--workshop-mit-agata-paulina-91307
DESCRIPTION:Wir singen tolle Lieder, die Spaß machen und nehmen den Körper als Unterstützung für den Rhythmus hinzu.
UID:e15e264112a9a9b3b3b0979bcb0a42f3@kulturhamburg
END:VEVENT
END:VCALENDAR