BEGIN:VCALENDAR
VERSION:2.0
PRODID:-//STADTKULTUR HAMBURG//kultur-hamburg.de///DE
CALSCALE:GREGORIAN
BEGIN:VEVENT
X-WR-TIMEZONE:Europe/Berlin
DTSTART:20121110T100000
DTEND:20121110T160000
LOCATION:KulturKlinker Barmbek e.V. \, Lorichsstraße 28 a \, 22307 Hamburg
DTSTAMP:20260423T001005
SUMMARY:Wendepunkte – Workshop mit Jutta Kowalski
URL;VALUE=URI:https://www.kultur-hamburg.de/kurse_workshops/wendepunkte--workshop-mit-jutta-kowalski-91308
DESCRIPTION:Wendepunkte zwischen Abschied und Aufbruch – Ein Workshop für Menschen, die mit Veränderungen zu tun haben.
UID:eae89995f982d90855309f38ea286846@kulturhamburg
END:VEVENT
END:VCALENDAR