BEGIN:VCALENDAR
VERSION:2.0
PRODID:-//STADTKULTUR HAMBURG//kultur-hamburg.de///DE
CALSCALE:GREGORIAN
BEGIN:VEVENT
X-WR-TIMEZONE:Europe/Berlin
DTSTART:20121103T110000
DTEND:20121103T150000
LOCATION:KulturKlinker Barmbek e.V. \, Lorichsstraße 28 a \, 22307 Hamburg
DTSTAMP:20260423T015640
SUMMARY:Schreiben – Workshop mit Karen Krienke
URL;VALUE=URI:https://www.kultur-hamburg.de/kurse_workshops/schreiben--workshop-mit-karen-krienke-91309
DESCRIPTION:Bitte schreiben Sie sich frei! Sie stehen an einem Wendepunkt oder vor einer Entscheidung und suchen nach einem Weg für sich?
UID:331428e92dd4bc4e424dd473ad8e7ab4@kulturhamburg
END:VEVENT
END:VCALENDAR