BEGIN:VCALENDAR
VERSION:2.0
PRODID:-//STADTKULTUR HAMBURG//kultur-hamburg.de///DE
CALSCALE:GREGORIAN
BEGIN:VEVENT
X-WR-TIMEZONE:Europe/Berlin
DTSTART:20121124T100000
DTEND:20121124T160000
LOCATION:KulturKlinker Barmbek e.V. \, Lorichsstraße 28 a \, 22307 Hamburg
DTSTAMP:20260422T204758
SUMMARY:Traumpartner – Workshop mit Dana Rittich
URL;VALUE=URI:https://www.kultur-hamburg.de/kurse_workshops/traumpartner--workshop-mit-dana-rittich-91310
DESCRIPTION:Lieber zweisam als einsam – Traumpartner gesucht, aber wie? Lassen Sie sich durch neue Impulse inspirieren, damit der Mut noch weiter steigt und Sie schon bald erfolgreich werden können!
UID:73c1f010a9ff7d7b1a8b2d8adbf831d1@kulturhamburg
END:VEVENT
END:VCALENDAR