BEGIN:VCALENDAR
VERSION:2.0
PRODID:-//STADTKULTUR HAMBURG//kultur-hamburg.de///DE
CALSCALE:GREGORIAN
BEGIN:VEVENT
X-WR-TIMEZONE:Europe/Berlin
DTSTART:20121112T173000
DTEND:20121112T190000
LOCATION:Alsterbildungsring e.V. \, Beim Strohhause 26 \, 20097 Hamburg
DTSTAMP:20260422T222634
SUMMARY:Türkisch für Anfänger
URL;VALUE=URI:https://www.kultur-hamburg.de/kurse_workshops/tuerkisch-fuer-anfaenger-94257
DESCRIPTION:Türkisch für Nichtmuttersprachler.
Im Unterricht wird nicht nur die Sprache sondern auch türkische Gedichte und Lieder vermittelt.
Möglichkeit an den deutsch türkischen Kulturolympiade teilzunehmen.
UID:7e68f536b5dca89d459f31be1d6a0ecf@kulturhamburg
END:VEVENT
END:VCALENDAR