BEGIN:VCALENDAR
VERSION:2.0
PRODID:-//STADTKULTUR HAMBURG//kultur-hamburg.de///DE
CALSCALE:GREGORIAN
BEGIN:VEVENT
X-WR-TIMEZONE:Europe/Berlin
DTSTART:20121114T203000
DTEND:20121114T213000
LOCATION:A.G.D.A.Z. Stadtteiltreff \, Gropiusring 43a \, 22309 Hamburg
DTSTAMP:20260422T222505
SUMMARY:Salsa tanzen
URL;VALUE=URI:https://www.kultur-hamburg.de/kurse_workshops/salsa-tanzen-94752
DESCRIPTION:
UID:b35326557964690b5b90290faf35ebb6@kulturhamburg
END:VEVENT
END:VCALENDAR