BEGIN:VCALENDAR
VERSION:2.0
PRODID:-//STADTKULTUR HAMBURG//kultur-hamburg.de///DE
CALSCALE:GREGORIAN
BEGIN:VEVENT
X-WR-TIMEZONE:Europe/Berlin
DTSTART:20121121T203000
DTEND:20121121T213000
LOCATION:A.G.D.A.Z. Stadtteiltreff \, Gropiusring 43a \, 22309 Hamburg
DTSTAMP:20260422T204733
SUMMARY:Salsa tanzen
URL;VALUE=URI:https://www.kultur-hamburg.de/kurse_workshops/salsa-tanzen-94753
DESCRIPTION:
UID:3da2065df19f37004eebf662496aac53@kulturhamburg
END:VEVENT
END:VCALENDAR