BEGIN:VCALENDAR
VERSION:2.0
PRODID:-//STADTKULTUR HAMBURG//kultur-hamburg.de///DE
CALSCALE:GREGORIAN
BEGIN:VEVENT
X-WR-TIMEZONE:Europe/Berlin
DTSTART:20121128T203000
DTEND:20121128T213000
LOCATION:A.G.D.A.Z. Stadtteiltreff \, Gropiusring 43a \, 22309 Hamburg
DTSTAMP:20260422T190652
SUMMARY:Salsa tanzen
URL;VALUE=URI:https://www.kultur-hamburg.de/kurse_workshops/salsa-tanzen-94754
DESCRIPTION:
UID:dda9cb57d2f914b12a8d842d2968c566@kulturhamburg
END:VEVENT
END:VCALENDAR