BEGIN:VCALENDAR
VERSION:2.0
PRODID:-//STADTKULTUR HAMBURG//kultur-hamburg.de///DE
CALSCALE:GREGORIAN
BEGIN:VEVENT
X-WR-TIMEZONE:Europe/Berlin
DTSTART:20121212T203000
DTEND:20121212T213000
LOCATION:A.G.D.A.Z. Stadtteiltreff \, Gropiusring 43a \, 22309 Hamburg
DTSTAMP:20260422T154659
SUMMARY:Salsa tanzen
URL;VALUE=URI:https://www.kultur-hamburg.de/kurse_workshops/salsa-tanzen-94756
DESCRIPTION:
UID:16f07440b03cc1f4f716fef10b052e8a@kulturhamburg
END:VEVENT
END:VCALENDAR