BEGIN:VCALENDAR
VERSION:2.0
PRODID:-//STADTKULTUR HAMBURG//kultur-hamburg.de///DE
CALSCALE:GREGORIAN
BEGIN:VEVENT
X-WR-TIMEZONE:Europe/Berlin
DTSTART:20121219T203000
DTEND:20121219T213000
LOCATION:A.G.D.A.Z. Stadtteiltreff \, Gropiusring 43a \, 22309 Hamburg
DTSTAMP:20260422T141310
SUMMARY:Salsa tanzen
URL;VALUE=URI:https://www.kultur-hamburg.de/kurse_workshops/salsa-tanzen-94757
DESCRIPTION:
UID:a386b741d041a96d021b22a9befb42de@kulturhamburg
END:VEVENT
END:VCALENDAR