BEGIN:VCALENDAR
VERSION:2.0
PRODID:-//STADTKULTUR HAMBURG//kultur-hamburg.de///DE
CALSCALE:GREGORIAN
BEGIN:VEVENT
X-WR-TIMEZONE:Europe/Berlin
DTSTART:20121130T180000
DTEND:20121130T190000
LOCATION:A.G.D.A.Z. Stadtteiltreff \, Gropiusring 43a \, 22309 Hamburg
DTSTAMP:20260422T190808
SUMMARY:Zumba tanzen
URL;VALUE=URI:https://www.kultur-hamburg.de/kurse_workshops/zumba-tanzen-94767
DESCRIPTION:
UID:45deb81c42fcd8b9ae9796ce9cfe26e2@kulturhamburg
END:VEVENT
END:VCALENDAR