BEGIN:VCALENDAR
VERSION:2.0
PRODID:-//STADTKULTUR HAMBURG//kultur-hamburg.de///DE
CALSCALE:GREGORIAN
BEGIN:VEVENT
X-WR-TIMEZONE:Europe/Berlin
DTSTART:20121207T180000
DTEND:20121207T190000
LOCATION:A.G.D.A.Z. Stadtteiltreff \, Gropiusring 43a \, 22309 Hamburg
DTSTAMP:20260422T173252
SUMMARY:Zumba tanzen
URL;VALUE=URI:https://www.kultur-hamburg.de/kurse_workshops/zumba-tanzen-94768
DESCRIPTION:
UID:a7d2f579bd0a35a277d6e3ec311ddc07@kulturhamburg
END:VEVENT
END:VCALENDAR