BEGIN:VCALENDAR
VERSION:2.0
PRODID:-//STADTKULTUR HAMBURG//kultur-hamburg.de///DE
CALSCALE:GREGORIAN
BEGIN:VEVENT
X-WR-TIMEZONE:Europe/Berlin
DTSTART:20121214T180000
DTEND:20121214T190000
LOCATION:A.G.D.A.Z. Stadtteiltreff \, Gropiusring 43a \, 22309 Hamburg
DTSTAMP:20260422T154709
SUMMARY:Zumba tanzen
URL;VALUE=URI:https://www.kultur-hamburg.de/kurse_workshops/zumba-tanzen-94769
DESCRIPTION:
UID:b5b2877e80fce6e3fa9fade1675b5744@kulturhamburg
END:VEVENT
END:VCALENDAR