BEGIN:VCALENDAR
VERSION:2.0
PRODID:-//STADTKULTUR HAMBURG//kultur-hamburg.de///DE
CALSCALE:GREGORIAN
BEGIN:VEVENT
X-WR-TIMEZONE:Europe/Berlin
DTSTART:20121221T180000
DTEND:20121221T190000
LOCATION:A.G.D.A.Z. Stadtteiltreff \, Gropiusring 43a \, 22309 Hamburg
DTSTAMP:20260422T141459
SUMMARY:Zumba tanzen
URL;VALUE=URI:https://www.kultur-hamburg.de/kurse_workshops/zumba-tanzen-94770
DESCRIPTION:
UID:7b6943e8e3261e07e4794701b1a14416@kulturhamburg
END:VEVENT
END:VCALENDAR