BEGIN:VCALENDAR
VERSION:2.0
PRODID:-//STADTKULTUR HAMBURG//kultur-hamburg.de///DE
CALSCALE:GREGORIAN
BEGIN:VEVENT
X-WR-TIMEZONE:Europe/Berlin
DTSTART:20110809T150000
DTEND:20110809T160000
LOCATION:malwerk. \, Paul-Dessau-Str. 1 \, 22761 Hamburg
DTSTAMP:20260426T021521
SUMMARY:atelierkurse Malzwerge
URL;VALUE=URI:https://www.kultur-hamburg.de/kurse_workshops/atelierkurse-malzwerge-949
DESCRIPTION:- auf vielfachen Wunsch wieder im Programm!
Erste Entdeckungsreise in die Welt der Farben. Malen - matschen - reißen - kleben,
für kleine ganz ....
UID:53405cc0b142e76fceee9cd68f562661@kulturhamburg
END:VEVENT
END:VCALENDAR