BEGIN:VCALENDAR
VERSION:2.0
PRODID:-//STADTKULTUR HAMBURG//kultur-hamburg.de///DE
CALSCALE:GREGORIAN
BEGIN:VEVENT
X-WR-TIMEZONE:Europe/Berlin
DTSTART:20110816T150000
DTEND:20110816T160000
LOCATION:malwerk. \, Paul-Dessau-Str. 1 \, 22761 Hamburg
DTSTAMP:20260426T002534
SUMMARY:atelierkurse Malzwerge
URL;VALUE=URI:https://www.kultur-hamburg.de/kurse_workshops/atelierkurse-malzwerge-950
DESCRIPTION:- auf vielfachen Wunsch wieder im Programm!
Erste Entdeckungsreise in die Welt der Farben. Malen - matschen - reißen - kleben,
für kleine ganz ....
UID:53c6a0c5f78591ad7c3109684baa1e19@kulturhamburg
END:VEVENT
END:VCALENDAR