BEGIN:VCALENDAR
VERSION:2.0
PRODID:-//STADTKULTUR HAMBURG//kultur-hamburg.de///DE
CALSCALE:GREGORIAN
BEGIN:VEVENT
X-WR-TIMEZONE:Europe/Berlin
DTSTART:20111004T150000
DTEND:20111004T160000
LOCATION:malwerk. \, Paul-Dessau-Str. 1 \, 22761 Hamburg
DTSTAMP:20260423T120709
SUMMARY:atelierkurse Malzwerge
URL;VALUE=URI:https://www.kultur-hamburg.de/kurse_workshops/atelierkurse-malzwerge-957
DESCRIPTION:- auf vielfachen Wunsch wieder im Programm!
Erste Entdeckungsreise in die Welt der Farben. Malen - matschen - reißen - kleben,
für kleine ganz ....
UID:77543f72240cf8ff287de4a3489b8c2e@kulturhamburg
END:VEVENT
END:VCALENDAR