BEGIN:VCALENDAR
VERSION:2.0
PRODID:-//STADTKULTUR HAMBURG//kultur-hamburg.de///DE
CALSCALE:GREGORIAN
BEGIN:VEVENT
X-WR-TIMEZONE:Europe/Berlin
DTSTART:20111122T150000
DTEND:20111122T160000
LOCATION:malwerk. \, Paul-Dessau-Str. 1 \, 22761 Hamburg
DTSTAMP:20260423T001147
SUMMARY:atelierkurse Malzwerge
URL;VALUE=URI:https://www.kultur-hamburg.de/kurse_workshops/atelierkurse-malzwerge-964
DESCRIPTION:- auf vielfachen Wunsch wieder im Programm!
Erste Entdeckungsreise in die Welt der Farben. Malen - matschen - reißen - kleben,
für kleine ganz ....
UID:4296ad572e37d3361fd6e3fb7773c19e@kulturhamburg
END:VEVENT
END:VCALENDAR