BEGIN:VCALENDAR
VERSION:2.0
PRODID:-//STADTKULTUR HAMBURG//kultur-hamburg.de///DE
CALSCALE:GREGORIAN
BEGIN:VEVENT
X-WR-TIMEZONE:Europe/Berlin
DTSTART:20121009T200000
DTEND:20121009T210000
LOCATION:Lenzsiedlung e.V. \, Julius-Vosseler-Straße 193 \, 22527 Hamburg
DTSTAMP:20260423T071849
SUMMARY:West Coast Swing - Tanzkurs
URL;VALUE=URI:https://www.kultur-hamburg.de/kurse_workshops/west-coast-swing-tanzkurs-96887
DESCRIPTION:Für Anfänger wie für Fortgeschrittene mit Spaß am Swing tanzen. Immer dienstags 20 bis 21 Uhr im Bürgerhaus der Lenzsiedlung.
UID:f77332e3f8c574d1b2a70bb75a22190d@kulturhamburg
END:VEVENT
END:VCALENDAR