BEGIN:VCALENDAR
VERSION:2.0
PRODID:-//STADTKULTUR HAMBURG//kultur-hamburg.de///DE
CALSCALE:GREGORIAN
BEGIN:VEVENT
X-WR-TIMEZONE:Europe/Berlin
DTSTART:20121204T153000
DTEND:20121204T183000
LOCATION:Ev. Familienbildung Eppendorf \, Loogeplatz 14/16 \, 20249 Hamburg
DTSTAMP:20260422T174018
SUMMARY:Kekse, Kekse, Kekse!
URL;VALUE=URI:https://www.kultur-hamburg.de/kurse_workshops/kekse-kekse-kekse!-97394
DESCRIPTION:Um leckere Kekse zu bekommen, rühren und kneten wir verschiedene Teige, formen Kringel oder stechen Plätzchen aus.
UID:611885cd9eb6e7f36c3309de95aa20c6@kulturhamburg
END:VEVENT
END:VCALENDAR