BEGIN:VCALENDAR
VERSION:2.0
PRODID:-//STADTKULTUR HAMBURG//kultur-hamburg.de///DE
CALSCALE:GREGORIAN
BEGIN:VEVENT
X-WR-TIMEZONE:Europe/Berlin
DTSTART:20121201T100000
DTEND:20121201T123000
LOCATION:
DTSTAMP:20260422T190706
SUMMARY:Weihnachtsbäckerei
URL;VALUE=URI:https://www.kultur-hamburg.de/kurse_workshops/weihnachtsbaeckerei-97432
DESCRIPTION:Ausrollen, Ausstechen und nicht vergessen: hübsch verzieren.
UID:f2af5e77b7db1a74fc4ab71da3114a25@kulturhamburg
END:VEVENT
END:VCALENDAR