BEGIN:VCALENDAR
VERSION:2.0
PRODID:-//STADTKULTUR HAMBURG//kultur-hamburg.de///DE
CALSCALE:GREGORIAN
BEGIN:VEVENT
X-WR-TIMEZONE:Europe/Berlin
DTSTART:20121204T150000
DTEND:20121204T170000
LOCATION:
DTSTAMP:20260422T173040
SUMMARY:Die Weihnachtswerkstatt
URL;VALUE=URI:https://www.kultur-hamburg.de/kurse_workshops/die-weihnachtswerkstatt-97435
DESCRIPTION:Wir wollen uns in gemütlicher Runde treffen und weihnachtlichen
Schmuck und Geschenke basteln.
UID:3e0a5e448c08e1f94bce842811b777e6@kulturhamburg
END:VEVENT
END:VCALENDAR