BEGIN:VCALENDAR
VERSION:2.0
PRODID:-//STADTKULTUR HAMBURG//kultur-hamburg.de///DE
CALSCALE:GREGORIAN
BEGIN:VEVENT
X-WR-TIMEZONE:Europe/Berlin
DTSTART:20121208T150000
DTEND:20121208T180000
LOCATION:Ev. Familienbildung Harburg \, Hölertwiete 5 \, 21073 Hamburg
DTSTAMP:20260422T173211
SUMMARY:Weihnachtsbäckerei
URL;VALUE=URI:https://www.kultur-hamburg.de/kurse_workshops/weihnachtsbaeckerei-97438
DESCRIPTION:für Kinder ab 3 Jahren mit Begleitung
UID:f365baea662a3e9ac198909b518c25cd@kulturhamburg
END:VEVENT
END:VCALENDAR