BEGIN:VCALENDAR
VERSION:2.0
PRODID:-//STADTKULTUR HAMBURG//kultur-hamburg.de///DE
CALSCALE:GREGORIAN
BEGIN:VEVENT
X-WR-TIMEZONE:Europe/Berlin
DTSTART:20121210T153000
DTEND:20121210T170000
LOCATION:Ev. Familienbildung Harburg \, Hölertwiete 5 \, 21073 Hamburg
DTSTAMP:20260422T154711
SUMMARY:Knusperhäuschen selbst gemacht
URL;VALUE=URI:https://www.kultur-hamburg.de/kurse_workshops/knusperhaeuschen-selbst-gemacht-97439
DESCRIPTION:und weihnachtlichen Zimmerschmuck selbst gestalten 
für Kinder ab 5 Jahren mit Begleitung
UID:8478d95682922a6e0ee25b7fddb74c04@kulturhamburg
END:VEVENT
END:VCALENDAR