BEGIN:VCALENDAR
VERSION:2.0
PRODID:-//STADTKULTUR HAMBURG//kultur-hamburg.de///DE
CALSCALE:GREGORIAN
BEGIN:VEVENT
X-WR-TIMEZONE:Europe/Berlin
DTSTART:20121214T190000
DTEND:20121214T220000
LOCATION:Ev. Familienbildung Harburg \, Hölertwiete 5 \, 21073 Hamburg
DTSTAMP:20260422T154659
SUMMARY:Weihnachtsmenü
URL;VALUE=URI:https://www.kultur-hamburg.de/kurse_workshops/weihnachtsmenue-97440
DESCRIPTION:Bitte mitbringen: Gefäße für den Heimtransport restlicher Speisen
UID:874de04ff9cd401c2f0797343f95a358@kulturhamburg
END:VEVENT
END:VCALENDAR