BEGIN:VCALENDAR
VERSION:2.0
PRODID:-//STADTKULTUR HAMBURG//kultur-hamburg.de///DE
CALSCALE:GREGORIAN
BEGIN:VEVENT
X-WR-TIMEZONE:Europe/Berlin
DTSTART:20121206T190000
DTEND:20121206T220000
LOCATION:Ev. Familienbildung Norderstedt \, Kirchenplatz 1 \, 22844 Norderstedt
DTSTAMP:20260422T175226
SUMMARY:Wir kochen gern gemeinsam — Paarkochen
URL;VALUE=URI:https://www.kultur-hamburg.de/kurse_workshops/wir-kochen-gern-gemeinsam-oe-paarkochen-97586
DESCRIPTION:Zweiheiten jeder Art treffen sich zum gemeinsamen Kochen und Genießen.
UID:e7e1bd7e0603279cc054a756f5b355b7@kulturhamburg
END:VEVENT
END:VCALENDAR