BEGIN:VCALENDAR
VERSION:2.0
PRODID:-//STADTKULTUR HAMBURG//kultur-hamburg.de///DE
CALSCALE:GREGORIAN
BEGIN:VEVENT
X-WR-TIMEZONE:Europe/Berlin
DTSTART:20121211T153000
DTEND:20121211T173000
LOCATION:Ev. Familienbildung Norderstedt \, Kirchenplatz 1 \, 22844 Norderstedt
DTSTAMP:20260422T154552
SUMMARY:Briefpapier und Umschläge aus buntem Kleisterpapier
URL;VALUE=URI:https://www.kultur-hamburg.de/kurse_workshops/briefpapier-und-umschlaege-aus-buntem-kleisterpapier-97591
DESCRIPTION:Aus unserem selbstgemachten Kleisterpapier (s. Kurs "Kleisterpapier) machen wir ganz individuelle Briefpapiere, die wir noch mit Stempeln, Stanzer oder Aufkleber verzieren können.
UID:3b717739835535907f61cef6216d699f@kulturhamburg
END:VEVENT
END:VCALENDAR