BEGIN:VCALENDAR
VERSION:2.0
PRODID:-//STADTKULTUR HAMBURG//kultur-hamburg.de///DE
CALSCALE:GREGORIAN
BEGIN:VEVENT
X-WR-TIMEZONE:Europe/Berlin
DTSTART:20120214T150000
DTEND:20120214T160000
LOCATION:malwerk. \, Paul-Dessau-Str. 1 \, 22761 Hamburg
DTSTAMP:20260423T004049
SUMMARY:atelierkurse Malzwerge
URL;VALUE=URI:https://www.kultur-hamburg.de/kurse_workshops/atelierkurse-malzwerge-976
DESCRIPTION:- auf vielfachen Wunsch wieder im Programm!
Erste Entdeckungsreise in die Welt der Farben. Malen - matschen - reißen - kleben,
für kleine ganz ....
UID:2ce4a6b8cde1aaae7b53c437b24c66a0@kulturhamburg
END:VEVENT
END:VCALENDAR