BEGIN:VCALENDAR
VERSION:2.0
PRODID:-//STADTKULTUR HAMBURG//kultur-hamburg.de///DE
CALSCALE:GREGORIAN
BEGIN:VEVENT
X-WR-TIMEZONE:Europe/Berlin
DTSTART:20131212T190000
DTEND:20131212T210000
LOCATION:Bramfelder Kulturladen e. V. - BRAKULA \, Bramfelder Chaussee 265 \, 22177 Hamburg
DTSTAMP:20260422T124415
SUMMARY:Meisterwerk: Schumann
URL;VALUE=URI:https://www.kultur-hamburg.de/kurse_workshops/meisterwerk-schumann-97796
DESCRIPTION:Tilman Kremser erläutert unterhaltsam die Geburt des romantischen Klavierkonzerts.
Kursleitung: Tilman Kremser
UID:fa17e84b2385f80ffb8df7e16468fe38@kulturhamburg
END:VEVENT
END:VCALENDAR