BEGIN:VCALENDAR
VERSION:2.0
PRODID:-//STADTKULTUR HAMBURG//kultur-hamburg.de///DE
CALSCALE:GREGORIAN
BEGIN:VEVENT
X-WR-TIMEZONE:Europe/Berlin
DTSTART:20140109T190000
DTEND:20140109T210000
LOCATION:Bramfelder Kulturladen e. V. - BRAKULA \, Bramfelder Chaussee 265 \, 22177 Hamburg
DTSTAMP:20260420T095824
SUMMARY:Meisterwerk: Schumann
URL;VALUE=URI:https://www.kultur-hamburg.de/kurse_workshops/meisterwerk-schumann-97797
DESCRIPTION:Tilman Kremser erläutert unterhaltsam die Geburt des romantischen Klavierkonzerts.
Kursleitung: Tilman Kremser
UID:a87fc6afcce553afc20734b70b2061c6@kulturhamburg
END:VEVENT
END:VCALENDAR