BEGIN:VCALENDAR
VERSION:2.0
PRODID:-//STADTKULTUR HAMBURG//kultur-hamburg.de///DE
CALSCALE:GREGORIAN
BEGIN:VEVENT
X-WR-TIMEZONE:Europe/Berlin
DTSTART:20130112T100000
DTEND:20130112T160000
LOCATION:KulturKlinker Barmbek e.V. \, Lorichsstraße 28 a \, 22307 Hamburg
DTSTAMP:20260422T124254
SUMMARY:Ziele erreichen – Workshop mit Jutta Kowalski
URL;VALUE=URI:https://www.kultur-hamburg.de/kurse_workshops/ziele-erreichen--workshop-mit-jutta-kowalski-98160
DESCRIPTION:Gute Vorsätze halten meistens nicht lange. Auch To-Do-Listen und das perfekte Zeitmanagement scheinen dagegen machtlos zu sein.
UID:2f5756fa84459a4d8249b102529501f3@kulturhamburg
END:VEVENT
END:VCALENDAR