BEGIN:VCALENDAR
VERSION:2.0
PRODID:-//STADTKULTUR HAMBURG//kultur-hamburg.de///DE
CALSCALE:GREGORIAN
BEGIN:VEVENT
X-WR-TIMEZONE:Europe/Berlin
DTSTART:20130924T193000
DTEND:20130924T213000
LOCATION:KulturWerkstatt Harburg e.V. \, Kanalplatz 6 \, 21079 Hamburg
DTSTAMP:20260423T072013
SUMMARY:Mit Worten spielen – Schreiben entdecken
URL;VALUE=URI:https://www.kultur-hamburg.de/kurse_workshops/mit-worten-spielen--schreiben-entdecken-99869
DESCRIPTION:
UID:de36673ef54bfbe5eb17c2a46e2debbc@kulturhamburg
END:VEVENT
END:VCALENDAR