BEGIN:VCALENDAR
VERSION:2.0
PRODID:-//STADTKULTUR HAMBURG//kultur-hamburg.de///DE
CALSCALE:GREGORIAN
BEGIN:VEVENT
X-WR-TIMEZONE:Europe/Berlin
DTSTART:20130103T103000
DTEND:20130103T120000
LOCATION:KulturWerkstatt Harburg e.V. \, Kanalplatz 6 \, 21079 Hamburg
DTSTAMP:20260422T111327
SUMMARY:Orientalischer Tanz für Frauen
URL;VALUE=URI:https://www.kultur-hamburg.de/kurse_workshops/orientalischer-tanz-fuer-frauen-99979
DESCRIPTION:
UID:762c0c07a6ab1db9711496ad30e6d0f9@kulturhamburg
END:VEVENT
END:VCALENDAR